BEGIN:VCALENDAR
VERSION:2.0
PRODID:-//Longview Mall - ECPv6.15.17.1//NONSGML v1.0//EN
CALSCALE:GREGORIAN
METHOD:PUBLISH
X-ORIGINAL-URL:https://www.longviewmall.com
X-WR-CALDESC:Events for Longview Mall
REFRESH-INTERVAL;VALUE=DURATION:PT1H
X-Robots-Tag:noindex
X-PUBLISHED-TTL:PT1H
BEGIN:VTIMEZONE
TZID:America/Chicago
BEGIN:DAYLIGHT
TZOFFSETFROM:-0600
TZOFFSETTO:-0500
TZNAME:CDT
DTSTART:20230312T080000
END:DAYLIGHT
BEGIN:STANDARD
TZOFFSETFROM:-0500
TZOFFSETTO:-0600
TZNAME:CST
DTSTART:20231105T070000
END:STANDARD
BEGIN:DAYLIGHT
TZOFFSETFROM:-0600
TZOFFSETTO:-0500
TZNAME:CDT
DTSTART:20240310T080000
END:DAYLIGHT
BEGIN:STANDARD
TZOFFSETFROM:-0500
TZOFFSETTO:-0600
TZNAME:CST
DTSTART:20241103T070000
END:STANDARD
BEGIN:DAYLIGHT
TZOFFSETFROM:-0600
TZOFFSETTO:-0500
TZNAME:CDT
DTSTART:20250309T080000
END:DAYLIGHT
BEGIN:STANDARD
TZOFFSETFROM:-0500
TZOFFSETTO:-0600
TZNAME:CST
DTSTART:20251102T070000
END:STANDARD
END:VTIMEZONE
BEGIN:VEVENT
DTSTART;TZID=America/Chicago:20240408T120000
DTEND;TZID=America/Chicago:20240408T133000
DTSTAMP:20260424T042255
CREATED:20240312T200601Z
LAST-MODIFIED:20240312T200601Z
UID:1856-1712577600-1712583000@www.longviewmall.com
SUMMARY:Total Solar Eclipse Watch Party
DESCRIPTION:Join us Monday\, April 8 at Longview Mall in the Back Yard for our Total Solar Eclipse Watch Party from 12:00 – 1:30pm. Bring your lawn chairs\, enjoy a variety of food trucks\, and the first 100 people will receive free viewing glasses!
URL:https://www.longviewmall.com/events/total-solar-eclipse-watch-party/
CATEGORIES:Kids
ATTACH;FMTTYPE=image/png:https://www.longviewmall.com/wp-content/uploads/2024/03/SolarEclipse_Digital_EmailHeader.png
END:VEVENT
END:VCALENDAR