BEGIN:VCALENDAR
VERSION:2.0
PRODID:-//Longview Mall - ECPv6.15.17.1//NONSGML v1.0//EN
CALSCALE:GREGORIAN
METHOD:PUBLISH
X-WR-CALNAME:Longview Mall
X-ORIGINAL-URL:https://www.longviewmall.com
X-WR-CALDESC:Events for Longview Mall
REFRESH-INTERVAL;VALUE=DURATION:PT1H
X-Robots-Tag:noindex
X-PUBLISHED-TTL:PT1H
BEGIN:VTIMEZONE
TZID:America/Chicago
BEGIN:DAYLIGHT
TZOFFSETFROM:-0600
TZOFFSETTO:-0500
TZNAME:CDT
DTSTART:20230312T080000
END:DAYLIGHT
BEGIN:STANDARD
TZOFFSETFROM:-0500
TZOFFSETTO:-0600
TZNAME:CST
DTSTART:20231105T070000
END:STANDARD
BEGIN:DAYLIGHT
TZOFFSETFROM:-0600
TZOFFSETTO:-0500
TZNAME:CDT
DTSTART:20240310T080000
END:DAYLIGHT
BEGIN:STANDARD
TZOFFSETFROM:-0500
TZOFFSETTO:-0600
TZNAME:CST
DTSTART:20241103T070000
END:STANDARD
BEGIN:DAYLIGHT
TZOFFSETFROM:-0600
TZOFFSETTO:-0500
TZNAME:CDT
DTSTART:20250309T080000
END:DAYLIGHT
BEGIN:STANDARD
TZOFFSETFROM:-0500
TZOFFSETTO:-0600
TZNAME:CST
DTSTART:20251102T070000
END:STANDARD
END:VTIMEZONE
BEGIN:VEVENT
DTSTART;VALUE=DATE:20240809
DTEND;VALUE=DATE:20240812
DTSTAMP:20260420T074741
CREATED:20240723T172629Z
LAST-MODIFIED:20240723T172629Z
UID:1876-1723161600-1723420799@www.longviewmall.com
SUMMARY:shop tax free
DESCRIPTION:As the new school year approaches\, Texas’ back-to-school sales tax holiday offers a prime opportunity for parents and students to save on essential clothing. This annual event allows shoppers to purchase certain items tax-free\, providing significant savings on back-to-school necessities. \nEnjoy tax free shopping at your favorite stores and save on apparel\, shoes\, backpacks and more! Complete your Back-to-School shopping or just treat yourself! Find FAQ’s and a complete list of eligible items here. \nShop Tax Free at your favorite retailers like American Eagle\, Finish Line\, Dillard’s\, Journey’s and many others! For a full directory listing of our retailers\, click here!
URL:https://www.longviewmall.com/events/tax-free-shopping/
CATEGORIES:Fashion,Kids,Seasonal
ATTACH;FMTTYPE=image/png:https://www.longviewmall.com/wp-content/uploads/2024/07/BTS_TaxFree_Digital_Website-Image-2.png
END:VEVENT
END:VCALENDAR